BEGIN:VCALENDAR
VERSION:2.0
PRODID:-//Association of Corporate Investigators - ECPv6.15.17//NONSGML v1.0//EN
CALSCALE:GREGORIAN
METHOD:PUBLISH
X-WR-CALNAME:Association of Corporate Investigators
X-ORIGINAL-URL:https://my-aci.com
X-WR-CALDESC:Events for Association of Corporate Investigators
REFRESH-INTERVAL;VALUE=DURATION:PT1H
X-Robots-Tag:noindex
X-PUBLISHED-TTL:PT1H
BEGIN:VTIMEZONE
TZID:Europe/London
BEGIN:DAYLIGHT
TZOFFSETFROM:+0000
TZOFFSETTO:+0100
TZNAME:BST
DTSTART:20200329T010000
END:DAYLIGHT
BEGIN:STANDARD
TZOFFSETFROM:+0100
TZOFFSETTO:+0000
TZNAME:GMT
DTSTART:20201025T010000
END:STANDARD
BEGIN:DAYLIGHT
TZOFFSETFROM:+0000
TZOFFSETTO:+0100
TZNAME:BST
DTSTART:20210328T010000
END:DAYLIGHT
BEGIN:STANDARD
TZOFFSETFROM:+0100
TZOFFSETTO:+0000
TZNAME:GMT
DTSTART:20211031T010000
END:STANDARD
BEGIN:DAYLIGHT
TZOFFSETFROM:+0000
TZOFFSETTO:+0100
TZNAME:BST
DTSTART:20220327T010000
END:DAYLIGHT
BEGIN:STANDARD
TZOFFSETFROM:+0100
TZOFFSETTO:+0000
TZNAME:GMT
DTSTART:20221030T010000
END:STANDARD
END:VTIMEZONE
BEGIN:VEVENT
DTSTART;TZID=Europe/London:20211020T120000
DTEND;TZID=Europe/London:20211020T130000
DTSTAMP:20260421T215925
CREATED:20210908T122425Z
LAST-MODIFIED:20210929T104024Z
UID:2961-1634731200-1634734800@my-aci.com
SUMMARY:Investigations Quality Assurance
DESCRIPTION:Conducting proportionate and robust investigations takes skill and experience.  In this webinar sponsored by Grant Thornton we will look at several elements – generally and throughout the investigation life-cycle – that may help investigators identify and improve the quality and consistency of their investigations\, and help stakeholders gain assurance over the same. \n  \n  \n Register \n  \nPanel \nSteve Donaghy\, Director\, Grant Thornton UK \nSteve is a director in Grant Thornton UK’s Forensic and Investigations team\, specialising in financial services. He has over 20 years’ experience in investigations and disputes across all segments of the financial services industry\, having led on multi-jurisdictional regulatory investigations\, as well as investigations into culture\, conduct\, controls\, compliance programmes and systems\, and accountability. Throughout this Steve has had extensive engagement with whistle-blowers. Prior to joining Grant Thornton in 2019\, Steve’s experience includes seven years at the Royal Bank of Scotland plc\, 12 years in a big four forensics practice\, and a period of time in Enforcement at the FSA. \n  \nLorne Wiggin\, Managing Investigator\, NatWest \nLorne is a Managing Investigator for the Litigation & Investigations team within NatWest Bank. This means as well as running investigations\, he also manages a team of investigators and oversees the investigations they undertake. Having worked for NatWest for over 36 years\, Lorne has undertaken multiple roles in that time from starting in-branch banking\, through selling mortgages and the associated regulated products\, Area Sales Management\, Regulated Trainer\, Compliance Manager and then Specialist Regulated Compliance Manager\, prior to joining investigations in 2006. \n  \nSimon Stephen\, Legal Director\, Gowling WLG \nSimon is a Legal Director in the Employment\, Labour and Equalities team in Gowling WLG\, where he has over 12 years’ experience. Prior to re-joining Gowling Simon also spent nearly 5 years in the employee relations department of a global investment bank. There he carried out and supported the whole range of internal investigations\, as well as supporting the compliance\, legal\, risk\, audit and whistleblowing teams with HR matters. As an employment lawyer Simon uses his unique blend of in-house and legal experience and specialises in undertaking and advising on investigations (whether himself or as part of a wider working group)\, cultural reviews\, whistleblowing matters and complex employee relations matters. Simon works across all sectors but has a specific interest in financial services and the SM&CR. \n  \nBasha Galvin\, COO\, ACi \nBasha started her career with the Metropolitan Police and moved to the City of London Police Fraud Unit\, covering money laundering\, trade finance fraud\, bribery and corruption.  Basha left the police and moved to Citigroup for four years\, moving to Barclays plc in 2006 as Head of Investigations & Whistleblowing for Wealth & Investment Bank. In 2018 Basha moved to the Oil & Gas Industry as Head of Investigations for Tullow Oil Plc leaving in late 2020.  Basha is a seasoned financial crime investigator in the public and corporate sector. She has led and managed global investigations teams.  During her career\, Basha has had the opportunity to work in a number of jurisdictions including the USA\, APAC and EMEA developing investigation models and collating evidence for civil and criminal prosecutions.  Basha was named as one of the “Top 40 in-house” investigation professionals by Global Investigations Review. \n  \n  \nRegister \n  \nWebinar Sponsored by:
URL:https://my-aci.com/event/investigations-quality-assurance/
ATTACH;FMTTYPE=image/jpeg:https://my-aci.com/wp-content/uploads/2021/09/Pic-scaled-e1631017666642.jpg
END:VEVENT
END:VCALENDAR