BEGIN:VCALENDAR
VERSION:2.0
PRODID:-//Association of Corporate Investigators - ECPv6.15.17//NONSGML v1.0//EN
CALSCALE:GREGORIAN
METHOD:PUBLISH
X-ORIGINAL-URL:https://my-aci.com
X-WR-CALDESC:Events for Association of Corporate Investigators
REFRESH-INTERVAL;VALUE=DURATION:PT1H
X-Robots-Tag:noindex
X-PUBLISHED-TTL:PT1H
BEGIN:VTIMEZONE
TZID:Europe/London
BEGIN:DAYLIGHT
TZOFFSETFROM:+0000
TZOFFSETTO:+0100
TZNAME:BST
DTSTART:20180325T010000
END:DAYLIGHT
BEGIN:STANDARD
TZOFFSETFROM:+0100
TZOFFSETTO:+0000
TZNAME:GMT
DTSTART:20181028T010000
END:STANDARD
BEGIN:DAYLIGHT
TZOFFSETFROM:+0000
TZOFFSETTO:+0100
TZNAME:BST
DTSTART:20190331T010000
END:DAYLIGHT
BEGIN:STANDARD
TZOFFSETFROM:+0100
TZOFFSETTO:+0000
TZNAME:GMT
DTSTART:20191027T010000
END:STANDARD
BEGIN:DAYLIGHT
TZOFFSETFROM:+0000
TZOFFSETTO:+0100
TZNAME:BST
DTSTART:20200329T010000
END:DAYLIGHT
BEGIN:STANDARD
TZOFFSETFROM:+0100
TZOFFSETTO:+0000
TZNAME:GMT
DTSTART:20201025T010000
END:STANDARD
END:VTIMEZONE
BEGIN:VEVENT
DTSTART;TZID=Europe/London:20190520T090000
DTEND;TZID=Europe/London:20190520T103000
DTSTAMP:20260425T221926
CREATED:20201119T125638Z
LAST-MODIFIED:20210125T104532Z
UID:1056-1558342800-1558348200@my-aci.com
SUMMARY:USING AI IN INVESTIGATIONS
DESCRIPTION:This event is a round-table and Webex discussion for ACi members\, co-hosted by Neil Fletcher\, ACi\, and Sam Tate of RPC\, focused on how AI is increasingly being used for investigations\, and what the future holds for AI in investigations\, including data analytics. ACi members can attend in person or dial-in and ask questions remotely via a webinar platform.  Subject matter expertise will be provided by Richard Day\, Head of eDiscovery\, Serious Fraud Office  and Trevor Dickey\, Technology Specialist\, GSK. \nThe session will be run by Chatham House Rules. \nThe key topics for discussion are as follows:\n·         How and when AI is being used in complex investigations by companies\n·         How the SFO is approaching technology within its matters\n·         Operational issues in relation to the use of AI\n·         Practical pros and cons of different systems and approaches \nThe event is free of charge by invitation only.  If you have not received an invitation and would like to attend please email us\nadmin@my-aci.com.  Note that registration requires a code in order to release tickets. \n 
URL:https://my-aci.com/event/using-ai-in-investigations/
CATEGORIES:Live Event
ATTACH;FMTTYPE=image/jpeg:https://my-aci.com/wp-content/uploads/2020/11/RPC-Event-Photo-2-scaled.jpg
END:VEVENT
END:VCALENDAR