BEGIN:VCALENDAR
VERSION:2.0
PRODID:-//Association of Corporate Investigators - ECPv6.15.17//NONSGML v1.0//EN
CALSCALE:GREGORIAN
METHOD:PUBLISH
X-WR-CALNAME:Association of Corporate Investigators
X-ORIGINAL-URL:https://my-aci.com
X-WR-CALDESC:Events for Association of Corporate Investigators
REFRESH-INTERVAL;VALUE=DURATION:PT1H
X-Robots-Tag:noindex
X-PUBLISHED-TTL:PT1H
BEGIN:VTIMEZONE
TZID:Europe/London
BEGIN:DAYLIGHT
TZOFFSETFROM:+0000
TZOFFSETTO:+0100
TZNAME:BST
DTSTART:20210328T010000
END:DAYLIGHT
BEGIN:STANDARD
TZOFFSETFROM:+0100
TZOFFSETTO:+0000
TZNAME:GMT
DTSTART:20211031T010000
END:STANDARD
BEGIN:DAYLIGHT
TZOFFSETFROM:+0000
TZOFFSETTO:+0100
TZNAME:BST
DTSTART:20220327T010000
END:DAYLIGHT
BEGIN:STANDARD
TZOFFSETFROM:+0100
TZOFFSETTO:+0000
TZNAME:GMT
DTSTART:20221030T010000
END:STANDARD
BEGIN:DAYLIGHT
TZOFFSETFROM:+0000
TZOFFSETTO:+0100
TZNAME:BST
DTSTART:20230326T010000
END:DAYLIGHT
BEGIN:STANDARD
TZOFFSETFROM:+0100
TZOFFSETTO:+0000
TZNAME:GMT
DTSTART:20231029T010000
END:STANDARD
END:VTIMEZONE
BEGIN:VEVENT
DTSTART;TZID=Europe/London:20220629T120000
DTEND;TZID=Europe/London:20220629T130000
DTSTAMP:20260421T180548
CREATED:20220511T105415Z
LAST-MODIFIED:20220623T143018Z
UID:4524-1656504000-1656507600@my-aci.com
SUMMARY:Investigating Greenwashing
DESCRIPTION:Investigating Greenwashing \n12.00 pm – 1.00 pm London time \nEnvironment\, Social and Governance (ESG) investigations are taking center stage at the moment with climate change and sustainability foremost on all our minds. What is Greenwashing? How do you avoid it and what are the potential outcomes for organisations subject to Greenwashing investigations? This webinar will answer these questions and more.  \n  \n Register \nPanel \nHannah Gilkes\, Risk Advisory \nHannah leads Risk Advisory’s global ESG intelligence practice. Hannah helps clients across a range of industries access hard-to-find information that helps them to understand and mitigate ESG issues across their operations. Based in London\, Hannah forms part of Risk Advisory’s wider business intelligence and investigations practice which helps businesses survive and thrive by equipping corporate decision makers and their advisors with the meticulously sourced\, local intelligence they need to make the right commercial decisions. Hannah has worked in intelligence for eleven years. Prior to this role\, she headed Risk Advisory’s Africa practice\, managing its investigations on the continent across the company’s integrity\, strategic intelligence and ESG service lines. She has also worked at FTI Consulting\, Livingstone & Company\, Africa Confidential and The Africa Report.  \nHannah is an Ethiopian national. She has lived and worked in Addis Ababa and travelled extensively across sub-Saharan Africa\, spending extended periods of time in Ethiopia\, Uganda\, Nigeria\, Ghana and South Africa. \n  \nJoanna Ludlam\, Partner\, Baker & Mckenzie \nJoanna Ludlam is co-chair of Baker McKenzie’s Global Compliance & Investigations group. She is a partner in the Firm’s London office\, where she also leads the market-leading Regulatory\, Public & Media law team. Joanna’s principal areas of practice are corporate internal investigations\, corporate compliance and complex business disputes. She regularly leads investigations of compliance issues\, including in particular under the UK Bribery Act\, for multinational corporations in multiple international jurisdictions. She also advises clients and their boards of directors on issues of corporate compliance and risk management\, particularly with respect to anti-corruption matters\, as well as on crisis and reputation management. Joanna focuses on bringing practical solutions to client issues\, and designed the Firm’s innovative Investigations Academy\, a comprehensive and state-of-the-art training programme for investigations practitioners. She is co-author of Baker McKenzie’s Connected Compliance thought leadership series. In 2016\, Joanna was named as one of The Lawyer’s “Hot 100” for her practice\, and is recognised by Legal 500 and Chambers & Partners. \n  \nLinzie Forrester\, President of Sustainability\, Wood Group \n \nLinzie is a passionate advocate for sustainable development\, safety and environmental protection with a career spanning more than 30 years. She has worked across a number of industries and latterly in the corporate setting. Her role brings sustainability into the forefront of thinking at the strategic level; ensuring ESG risks are clearly and effectively identified and mitigated through the governance systems of the organisation. Linzie provides both strategic thinking and challenge to Wood’s executive leadership team\, integrating sustainability into the mainstream management of their company. Previously she has developed and integrated AMEC’s sustainability program\, achieving sector leader status multiple times in the Dow Jones Sustainability Index.  \n  \nModerator \nSteve Young\, CEO\, ACi \nSteve served 20 years in UK law enforcement investigating economic crime specialising in the pro-active investigation of Banking Fraud\, Bribery & Corruption\, Whistleblowing and Money Laundering. This was followed by 6 years at Citigroup Inc. as EMEA Regional Director of Investigations\, and 8 years as Barclays Bank Plc\, Global Head of Investigations for Investment Banking & Wealth Management. Currently Head of Fraud & Investigations in Group Compliance at Lombard Odier\, based in Geneva. To date\, 40 years of international economic crime experience in both a law enforcement and corporate environment. \n  \n Register \n  \nWebinar Sponsored by \n \n 
URL:https://my-aci.com/event/investigating-greenwashing/
LOCATION:Online
CATEGORIES:Webinar
ATTACH;FMTTYPE=image/png:https://my-aci.com/wp-content/uploads/2022/06/Investigating-Greenwashing.png
END:VEVENT
END:VCALENDAR