BEGIN:VCALENDAR
VERSION:2.0
PRODID:-//Association of Corporate Investigators - ECPv6.15.17//NONSGML v1.0//EN
CALSCALE:GREGORIAN
METHOD:PUBLISH
X-WR-CALNAME:Association of Corporate Investigators
X-ORIGINAL-URL:https://my-aci.com
X-WR-CALDESC:Events for Association of Corporate Investigators
REFRESH-INTERVAL;VALUE=DURATION:PT1H
X-Robots-Tag:noindex
X-PUBLISHED-TTL:PT1H
BEGIN:VTIMEZONE
TZID:Europe/London
BEGIN:DAYLIGHT
TZOFFSETFROM:+0000
TZOFFSETTO:+0100
TZNAME:BST
DTSTART:20180325T010000
END:DAYLIGHT
BEGIN:STANDARD
TZOFFSETFROM:+0100
TZOFFSETTO:+0000
TZNAME:GMT
DTSTART:20181028T010000
END:STANDARD
BEGIN:DAYLIGHT
TZOFFSETFROM:+0000
TZOFFSETTO:+0100
TZNAME:BST
DTSTART:20190331T010000
END:DAYLIGHT
BEGIN:STANDARD
TZOFFSETFROM:+0100
TZOFFSETTO:+0000
TZNAME:GMT
DTSTART:20191027T010000
END:STANDARD
BEGIN:DAYLIGHT
TZOFFSETFROM:+0000
TZOFFSETTO:+0100
TZNAME:BST
DTSTART:20200329T010000
END:DAYLIGHT
BEGIN:STANDARD
TZOFFSETFROM:+0100
TZOFFSETTO:+0000
TZNAME:GMT
DTSTART:20201025T010000
END:STANDARD
BEGIN:DAYLIGHT
TZOFFSETFROM:+0000
TZOFFSETTO:+0100
TZNAME:BST
DTSTART:20210328T010000
END:DAYLIGHT
BEGIN:STANDARD
TZOFFSETFROM:+0100
TZOFFSETTO:+0000
TZNAME:GMT
DTSTART:20211031T010000
END:STANDARD
END:VTIMEZONE
BEGIN:VEVENT
DTSTART;TZID=Europe/London:20191031T080000
DTEND;TZID=Europe/London:20201116T170000
DTSTAMP:20260425T003910
CREATED:20201116T151347Z
LAST-MODIFIED:20201118T113540Z
UID:951-1572508800-1605546000@my-aci.com
SUMMARY:ACi Immersive Workshop Geneva
DESCRIPTION:Event Sponsor\n \nThe ACi and Schellenberg Wittmer are hosting to the ACi’s immersive investigations workshop to be held at Schellenberg’s offices in Geneva. \nThe workshop will benefit corporate investigators new to corporate investigations that are developing their skills\, or more experienced investigators\, who wish to enhance their skills and learn from others experienced in the field. The training will also benefit in-house HR\, Compliance\, and Legal professionals supporting and handling corporate investigations and disputes as well as Consultants supporting corporate clients with such investigations. \n \nDelegates will be immersed in a real-life case from the beginning\, identifying and discussing the issues\, interviewing witnesses\, planning the investigation and watching as the evidence is gathered\, schemes are revealed\, and the subject is put on the spot.\nDelegates will enhance their investigative knowledge and skills from subject matter experts in interviewing\, forensic accounting and data analytics\, open source intelligence\, forensic IT / e-Discovery\, and legal. Areas of focus will be on investigation planning\, interviewing\, working with subject matter experts\, developing the case\, and how to identify and interpret evidence and establish investigative conclusions. \nAll lectures will be in English. \n\n			\n				\n			\n				\n				 Nico Van der Beken\n				\n			\n				\n			\n				\n				Kelsey Froehlich\n				\n			\n				\n			\n				\n				Philippe Fleury\n				\n			\n				\n			\n				\n				Claudia Jung\n				\n			\n				\n			\n				\n				Benjamin Borsodi\n				\n			\n				\n			\n				\n				David Wolfe\n				\n			\n				\n			\n				\n				Steve Young\n				\n		\n\nSupporters
URL:https://my-aci.com/event/aci-immersive-workshop-geneva/
CATEGORIES:Live Event
ATTACH;FMTTYPE=image/jpeg:https://my-aci.com/wp-content/uploads/2020/11/daniela-turcanu-9l7qwrjaxHM-unsplash-scaled-e1605698804786.jpg
END:VEVENT
BEGIN:VEVENT
DTSTART;TZID=Europe/London:20200603T130000
DTEND;TZID=Europe/London:20200603T140000
DTSTAMP:20260425T003910
CREATED:20190618T095415Z
LAST-MODIFIED:20201120T112515Z
UID:995-1591189200-1591192800@my-aci.com
SUMMARY:ACi's Guide To Remote Interviewing
DESCRIPTION:In this webinar ACi leaders and featured guests offer expert guidance and practical advice on the some of the key challenges when conducting remote interviews. In each session the presenters touch on the points most crucial to optimising your investigative efforts. The webinars offer a welcome mix of relevant expert advice\, real life anecdotes and Q&A with participants to help everyone through these unprecedented and uncertain times. \nWe discuss the challenges around the planning and execution of Remote  Interviewing \n​ \n\nRemote audio or video?\nInterview Management\nPlanning & Rapport building\nTechnology & Connectivity\nDocument & data preparation\nRecording interviews\n​\n\nSingapore Webinar Presenters\nMark Gough\, ACi Regional Head\, SE Asia\nCassia Ho\, Head of Shared Investigative Services\, ASEAN\, SCB\nEbru Tiberi\, CFE\, Deutche Bank\, APAC\n​Jason Landers\,  Investigations Lead\, APAC\, Ethics & Integrity\, Rio Tinto  \n\n			\n				\n			\n				\n				Cassia Ho\n				\n			\n				\n			\n				\n				Ebru Tiberi\n				\n			\n				\n			\n				\n				Mark Gough\n				\n		\n\nLondon Webinar Presenters \n​Neil Fletcher\, ACi CETO\n​Manu Hanspal\, ​Manu Hanspal\, Investigations EMEA and Programme Lead\, Rio Tinto\, for London\nMichael Keane\, Head of Investigations\, BT\nMichele Manici\, CFE\, Vodafone \n\n			\n				\n			\n				\n				Manu Hanspal\n				\n			\n				\n			\n				\n				Michele Manici\n				\n			\n				\n			\n				\n				Michael Keane\n				\n			\n				\n			\n				\n				Neil Fletcher
URL:https://my-aci.com/event/995/
CATEGORIES:Webinar
ATTACH;FMTTYPE=image/jpeg:https://my-aci.com/wp-content/uploads/2020/11/photo.jpg
END:VEVENT
END:VCALENDAR