BEGIN:VCALENDAR
VERSION:2.0
PRODID:-//Association of Corporate Investigators - ECPv6.15.17//NONSGML v1.0//EN
CALSCALE:GREGORIAN
METHOD:PUBLISH
X-ORIGINAL-URL:https://my-aci.com
X-WR-CALDESC:Events for Association of Corporate Investigators
REFRESH-INTERVAL;VALUE=DURATION:PT1H
X-Robots-Tag:noindex
X-PUBLISHED-TTL:PT1H
BEGIN:VTIMEZONE
TZID:Europe/London
BEGIN:DAYLIGHT
TZOFFSETFROM:+0000
TZOFFSETTO:+0100
TZNAME:BST
DTSTART:20180325T010000
END:DAYLIGHT
BEGIN:STANDARD
TZOFFSETFROM:+0100
TZOFFSETTO:+0000
TZNAME:GMT
DTSTART:20181028T010000
END:STANDARD
BEGIN:DAYLIGHT
TZOFFSETFROM:+0000
TZOFFSETTO:+0100
TZNAME:BST
DTSTART:20190331T010000
END:DAYLIGHT
BEGIN:STANDARD
TZOFFSETFROM:+0100
TZOFFSETTO:+0000
TZNAME:GMT
DTSTART:20191027T010000
END:STANDARD
BEGIN:DAYLIGHT
TZOFFSETFROM:+0000
TZOFFSETTO:+0100
TZNAME:BST
DTSTART:20200329T010000
END:DAYLIGHT
BEGIN:STANDARD
TZOFFSETFROM:+0100
TZOFFSETTO:+0000
TZNAME:GMT
DTSTART:20201025T010000
END:STANDARD
END:VTIMEZONE
BEGIN:VEVENT
DTSTART;TZID=Europe/London:20190905T080000
DTEND;TZID=Europe/London:20190905T080000
DTSTAMP:20260425T144457
CREATED:20201116T145138Z
LAST-MODIFIED:20201118T110649Z
UID:933-1567670400-1567670400@my-aci.com
SUMMARY:ACi Immersive Workshop
DESCRIPTION:Sponsored by \n \nOur interactive workshop will enhance and develop the decision-making ability of delegates\, featuring a complex real-life example allegation where delegates will decide what\, when and why to utilise investigative tools including: open source research\, digital forensics\, eDiscovery\, investigative interviewing and legal options. Input from expert panel members brings to life this challenging scenario providing a realistic\, participatory and engaging learning environment. \n​The workshop will benefit: \n\nNew/developing corporate investigators;\nCareer investigators seeking to transition from other organisations (I.e. public to private);\nEstablished professionals (HR\, compliance officers etc.) from various backgrounds seeking to upskill and/or seek exposure to a complex end-to-end corporate investigation in a training environment;\nEstablished corporate investigators seeking to stay up-to-date\, upskill\, challenge themselves and/or to obtain continuing professional development points and certificate of attendance for personal development plans.\n\nThe workshop is an interactive seminar with audience participation where delivery is focused on a dynamic\, evolving and multi-faceted case/scenario involving injects of data and information\, where delegates at set intervals are invited to vote on investigative considerations to drive the discussion.  The event focuses on particular aspects of the life cycle of a case\, and junctures where strategic decisions are informed by risk indicators. \nLed and facilitated by experienced corporate investigation professionals\, participants are assisted by a panel of subject matter experts who will be on-hand to present soundbite knowledge shares and advice on case strategy\, decisions and potential impacts. \nKey thoughts\, top tips along with other tools and materials will be provided from each of the experts and the ACi as part of the workshop. \nConfirmed panellists \n\nNeil Fletcher\, Global Investigations Program Citi\nSatnam Tumani\, Partner\, Kirkland & Ellis\nTrevor Wiles\, Partner\, FRA\nJenny Wilson\, Partner\, Kirland & Ellis\nDr Thomas Wilson\, Partner Kirkland & Ellis\nMick Confrey\, Director\, Intersol Global\nSteven Haynes\, Greyhawk\nTrevor Dickey\, GSK\n\nThis event was supported by
URL:https://my-aci.com/event/aci-immersive-workshop/
LOCATION:The Gherkin\, London\, United Kingdom
CATEGORIES:Live Event
ATTACH;FMTTYPE=image/jpeg:https://my-aci.com/wp-content/uploads/2020/11/charles-forerunner-3fPXt37X6UQ-unsplash-scaled.jpg
END:VEVENT
END:VCALENDAR